BEGIN:VCALENDAR
VERSION:2.0
PRODID:ShowClix//ShowClix//EN
BEGIN:VTIMEZONE
TZID:Pacific/Auckland
BEGIN:STANDARD
DTSTART:20180331T140000
TZOFFSETFROM:+1300
TZOFFSETTO:+1200
TZNAME:NZST
END:STANDARD
BEGIN:DAYLIGHT
DTSTART:20180929T140000
TZOFFSETFROM:+1200
TZOFFSETTO:+1300
TZNAME:NZDT
END:DAYLIGHT
END:VTIMEZONE
BEGIN:VEVENT
DTSTART;TZID=Pacific/Auckland:20180127T113000
DTEND;TZID=Pacific/Auckland:20180128T220000
SUMMARY:ONE LOVE FESTIVAL 2018
DESCRIPTION:Show details available at https://tickets.ticketspace.co.nz/event/one-love-2018
LOCATION:Tauranga Domain
GEO:-37.696867;176.160349
END:VEVENT
END:VCALENDAR
