BEGIN:VCALENDAR
VERSION:2.0
PRODID:ShowClix//ShowClix//EN
BEGIN:VTIMEZONE
TZID:Pacific/Auckland
BEGIN:STANDARD
DTSTART:20180331T140000
TZOFFSETFROM:+1300
TZOFFSETTO:+1200
TZNAME:NZST
END:STANDARD
BEGIN:DAYLIGHT
DTSTART:20180929T140000
TZOFFSETFROM:+1200
TZOFFSETTO:+1300
TZNAME:NZDT
END:DAYLIGHT
END:VTIMEZONE
BEGIN:VEVENT
DTSTART;TZID=Pacific/Auckland:20180127T210000
SUMMARY:ON THE RARK - Wellington
DESCRIPTION:Show details available at https://tickets.ticketspace.co.nz/event/on-the-rark---wellington
LOCATION:San Fran
GEO:-41.290666;174.777189
END:VEVENT
END:VCALENDAR
