BEGIN:VCALENDAR
VERSION:2.0
PRODID:ShowClix//ShowClix//EN
BEGIN:VTIMEZONE
TZID:Pacific/Auckland
BEGIN:DAYLIGHT
DTSTART:20180929T140000
TZOFFSETFROM:+1200
TZOFFSETTO:+1300
TZNAME:NZDT
END:DAYLIGHT
BEGIN:STANDARD
DTSTART:20190406T140000
TZOFFSETFROM:+1300
TZOFFSETTO:+1200
TZNAME:NZST
END:STANDARD
END:VTIMEZONE
BEGIN:VEVENT
DTSTART;TZID=Pacific/Auckland:20180414T210000
SUMMARY:ON THE RARK - Napier
DESCRIPTION:Show details available at https://tickets.ticketspace.co.nz/event/on-the-rark---napier
LOCATION:The Cabana
GEO:-39.487844;176.916725
END:VEVENT
END:VCALENDAR
