BEGIN:VCALENDAR
VERSION:2.0
PRODID:ShowClix//ShowClix//EN
BEGIN:VTIMEZONE
TZID:Pacific/Auckland
BEGIN:DAYLIGHT
DTSTART:20210925T140000
TZOFFSETFROM:+1200
TZOFFSETTO:+1300
TZNAME:NZDT
END:DAYLIGHT
BEGIN:STANDARD
DTSTART:20220402T140000
TZOFFSETFROM:+1300
TZOFFSETTO:+1200
TZNAME:NZST
END:STANDARD
END:VTIMEZONE
BEGIN:VEVENT
DTSTART;TZID=Pacific/Auckland:20210515T200000
SUMMARY:Masaya Summer Tour | Gisborne 
DESCRIPTION:Show details available at https://tickets.ticketspace.co.nz/event/masaya-summer-tour-gisborne
LOCATION:Smash Palace
GEO:-38.666650;178.001585
END:VEVENT
END:VCALENDAR
