BEGIN:VCALENDAR
VERSION:2.0
PRODID:ShowClix//ShowClix//EN
BEGIN:VTIMEZONE
TZID:America/New_York
BEGIN:STANDARD
DTSTART:20211107T060000
TZOFFSETFROM:-0400
TZOFFSETTO:-0500
TZNAME:EST
END:STANDARD
BEGIN:DAYLIGHT
DTSTART:20220313T070000
TZOFFSETFROM:-0500
TZOFFSETTO:-0400
TZNAME:EDT
END:DAYLIGHT
END:VTIMEZONE
BEGIN:VEVENT
DTSTART;TZID=America/New_York:20210319T200000
SUMMARY:Masaya Summer Tour | Dunedin
DESCRIPTION:Show details available at https://tickets.ticketspace.co.nz/event/masaya-summer-tour-dunedin
LOCATION:Starters Bar
GEO:-45.869726;170.514254
END:VEVENT
END:VCALENDAR
