BEGIN:VCALENDAR
VERSION:2.0
PRODID:ShowClix//ShowClix//EN
BEGIN:VTIMEZONE
TZID:Pacific/Auckland
BEGIN:STANDARD
DTSTART:20180331T140000
TZOFFSETFROM:+1300
TZOFFSETTO:+1200
TZNAME:NZST
END:STANDARD
BEGIN:DAYLIGHT
DTSTART:20180929T140000
TZOFFSETFROM:+1200
TZOFFSETTO:+1300
TZNAME:NZDT
END:DAYLIGHT
END:VTIMEZONE
BEGIN:VEVENT
DTSTART;TZID=Pacific/Auckland:20180125T210000
SUMMARY:The J.A.M. Tour LIVE in South Auckland
DESCRIPTION:Show details available at https://tickets.ticketspace.co.nz/event/jamtourmanukau
LOCATION:Club Royalz
GEO:-36.988402;174.877779
END:VEVENT
END:VCALENDAR
