BEGIN:VCALENDAR
VERSION:2.0
PRODID:ShowClix//ShowClix//EN
BEGIN:VTIMEZONE
TZID:Pacific/Auckland
BEGIN:STANDARD
DTSTART:20190406T140000
TZOFFSETFROM:+1300
TZOFFSETTO:+1200
TZNAME:NZST
END:STANDARD
BEGIN:DAYLIGHT
DTSTART:20190928T140000
TZOFFSETFROM:+1200
TZOFFSETTO:+1300
TZNAME:NZDT
END:DAYLIGHT
END:VTIMEZONE
BEGIN:VEVENT
DTSTART;TZID=Pacific/Auckland:20190111T190000
SUMMARY:J BOOG - ROCK THE BOAT TOUR - Auckland
DESCRIPTION:Show details available at https://tickets.ticketspace.co.nz/event/j-boog-rock-the-boat-tour-auckland
LOCATION:Woodside Bar
GEO:-36.848460;174.763331
END:VEVENT
END:VCALENDAR
