BEGIN:VCALENDAR
VERSION:2.0
PRODID:ShowClix//ShowClix//EN
BEGIN:VTIMEZONE
TZID:Pacific/Auckland
BEGIN:STANDARD
DTSTART:20210403T140000
TZOFFSETFROM:+1300
TZOFFSETTO:+1200
TZNAME:NZST
END:STANDARD
BEGIN:DAYLIGHT
DTSTART:20210925T140000
TZOFFSETFROM:+1200
TZOFFSETTO:+1300
TZNAME:NZDT
END:DAYLIGHT
END:VTIMEZONE
BEGIN:VEVENT
DTSTART;TZID=Pacific/Auckland:20210123T200000
SUMMARY:HOUSE OF SHEM - Whangarei
DESCRIPTION:Show details available at https://tickets.ticketspace.co.nz/event/house-of-shem-whangarei
LOCATION:The Tikipunga Tavern
GEO:-35.684210;174.320542
END:VEVENT
END:VCALENDAR
