BEGIN:VCALENDAR
VERSION:2.0
PRODID:ShowClix//ShowClix//EN
BEGIN:VTIMEZONE
TZID:Pacific/Auckland
BEGIN:STANDARD
DTSTART:20210403T140000
TZOFFSETFROM:+1300
TZOFFSETTO:+1200
TZNAME:NZST
END:STANDARD
BEGIN:DAYLIGHT
DTSTART:20210925T140000
TZOFFSETFROM:+1200
TZOFFSETTO:+1300
TZNAME:NZDT
END:DAYLIGHT
END:VTIMEZONE
BEGIN:VEVENT
DTSTART;TZID=Pacific/Auckland:20210130T150000
SUMMARY:Good Vibes Summer Festival | Gisborne
DESCRIPTION:Show details available at https://tickets.ticketspace.co.nz/event/good-vibes-summer-festival-gisborne
LOCATION:Gisborne Soundshell
GEO:-38.671021;178.000649
END:VEVENT
END:VCALENDAR
