BEGIN:VCALENDAR
VERSION:2.0
PRODID:ShowClix//ShowClix//EN
BEGIN:VTIMEZONE
TZID:Pacific/Auckland
BEGIN:STANDARD
DTSTART:20220402T140000
TZOFFSETFROM:+1300
TZOFFSETTO:+1200
TZNAME:NZST
END:STANDARD
BEGIN:DAYLIGHT
DTSTART:20220924T140000
TZOFFSETFROM:+1200
TZOFFSETTO:+1300
TZNAME:NZDT
END:DAYLIGHT
END:VTIMEZONE
BEGIN:VEVENT
DTSTART;TZID=Pacific/Auckland:20220105T110000
SUMMARY:BAY DREAMS FESTIVAL 2022 - Nelson
DESCRIPTION:Show details available at https://tickets.ticketspace.co.nz/event/bay-dreams-2022-nelson
LOCATION:Nelson
GEO:-41.298540;173.244149
END:VEVENT
END:VCALENDAR
