BEGIN:VCALENDAR
VERSION:2.0
PRODID:ShowClix//ShowClix//EN
BEGIN:VTIMEZONE
TZID:Pacific/Auckland
BEGIN:STANDARD
DTSTART:20210403T140000
TZOFFSETFROM:+1300
TZOFFSETTO:+1200
TZNAME:NZST
END:STANDARD
BEGIN:DAYLIGHT
DTSTART:20210925T140000
TZOFFSETFROM:+1200
TZOFFSETTO:+1300
TZNAME:NZDT
END:DAYLIGHT
END:VTIMEZONE
BEGIN:VEVENT
DTSTART;TZID=Pacific/Auckland:20210129T193000
SUMMARY:ARDIJAH &amp; HERBS - Auckland
DESCRIPTION:Show details available at https://tickets.ticketspace.co.nz/event/ardijah-herbs-auckland
LOCATION:Le Fiafia Nightclub
GEO:-36.972869;174.863880
END:VEVENT
END:VCALENDAR
